Package: COCOA Version: 2.20.0 Command: F:\biocbuild\bbs-3.20-bioc\R\bin\R.exe CMD INSTALL COCOA StartedAt: 2025-01-27 16:50:27 -0500 (Mon, 27 Jan 2025) EndedAt: 2025-01-27 16:51:17 -0500 (Mon, 27 Jan 2025) EllapsedTime: 49.9 seconds RetCode: 0 Status: OK