Package: COCOA Version: 2.20.0 Command: /home/biocbuild/bbs-3.20-bioc/R/bin/R CMD check --install=check:COCOA.install-out.txt --library=/home/biocbuild/bbs-3.20-bioc/R/site-library --timings COCOA_2.20.0.tar.gz StartedAt: 2025-03-31 20:56:52 -0400 (Mon, 31 Mar 2025) EndedAt: 2025-03-31 21:02:51 -0400 (Mon, 31 Mar 2025) EllapsedTime: 359.3 seconds RetCode: 0 Status: OK CheckDir: COCOA.Rcheck Warnings: 0