Package: COCOA Version: 2.20.0 Command: rm -rf COCOA.buildbin-libdir && mkdir COCOA.buildbin-libdir && /Users/biocbuild/BBS/utils/build-universal.sh COCOA_2.20.0.tar.gz /Library/Frameworks/R.framework/Resources/bin/R COCOA.buildbin-libdir StartedAt: 2025-04-02 13:48:29 -0400 (Wed, 02 Apr 2025) EndedAt: 2025-04-02 13:49:21 -0400 (Wed, 02 Apr 2025) EllapsedTime: 51.9 seconds RetCode: 0 Status: OK PackageFile: COCOA_2.20.0.tgz PackageFileSize: 3.554 MiB