Package: CNViz Version: 1.14.0 Command: /home/biocbuild/R/R/bin/R CMD INSTALL CNViz StartedAt: 2025-02-03 20:58:33 -0000 (Mon, 03 Feb 2025) EndedAt: 2025-02-03 20:59:32 -0000 (Mon, 03 Feb 2025) EllapsedTime: 58.5 seconds RetCode: 0 Status: OK