Package: CNViz Version: 1.14.0 Command: rm -rf CNViz.buildbin-libdir && mkdir CNViz.buildbin-libdir && F:\biocbuild\bbs-3.20-bioc\R\bin\R.exe CMD INSTALL --build --library=CNViz.buildbin-libdir CNViz_1.14.0.tar.gz StartedAt: 2025-04-01 07:56:31 -0400 (Tue, 01 Apr 2025) EndedAt: 2025-04-01 07:57:19 -0400 (Tue, 01 Apr 2025) EllapsedTime: 47.9 seconds RetCode: 0 Status: OK PackageFile: CNViz_1.14.0.zip PackageFileSize: 186.1 KiB