Package: CNViz Version: 1.14.0 Command: /Library/Frameworks/R.framework/Resources/bin/R CMD INSTALL CNViz StartedAt: 2025-03-31 15:58:44 -0400 (Mon, 31 Mar 2025) EndedAt: 2025-03-31 16:00:16 -0400 (Mon, 31 Mar 2025) EllapsedTime: 92.2 seconds RetCode: 0 Status: OK