Package: CNVRanger Version: 1.22.0 Command: /home/biocbuild/R/R/bin/R CMD build --keep-empty-dirs --no-resave-data CNVRanger StartedAt: 2025-03-31 22:38:27 -0000 (Mon, 31 Mar 2025) EndedAt: 2025-03-31 22:43:19 -0000 (Mon, 31 Mar 2025) EllapsedTime: 292.1 seconds RetCode: 0 Status: OK PackageFile: CNVRanger_1.22.0.tar.gz PackageFileSize: 1.863 MiB