Package: CNVRanger Version: 1.22.0 Command: rm -rf CNVRanger.buildbin-libdir && mkdir CNVRanger.buildbin-libdir && F:\biocbuild\bbs-3.20-bioc\R\bin\R.exe CMD INSTALL --build --library=CNVRanger.buildbin-libdir CNVRanger_1.22.0.tar.gz StartedAt: 2025-01-28 07:53:54 -0500 (Tue, 28 Jan 2025) EndedAt: 2025-01-28 07:54:28 -0500 (Tue, 28 Jan 2025) EllapsedTime: 33.6 seconds RetCode: 0 Status: OK PackageFile: CNVRanger_1.22.0.zip PackageFileSize: 1.872 MiB