Package: CNVRanger Version: 1.22.0 Command: rm -rf CNVRanger.buildbin-libdir && mkdir CNVRanger.buildbin-libdir && /Users/biocbuild/BBS/utils/build-universal.sh CNVRanger_1.22.0.tar.gz /Library/Frameworks/R.framework/Resources/bin/R CNVRanger.buildbin-libdir StartedAt: 2025-04-01 11:38:20 -0400 (Tue, 01 Apr 2025) EndedAt: 2025-04-01 11:39:11 -0400 (Tue, 01 Apr 2025) EllapsedTime: 50.5 seconds RetCode: 0 Status: OK PackageFile: CNVRanger_1.22.0.tgz PackageFileSize: 2.064 MiB