Package: CNVPanelizer Version: 1.38.0 Command: /home/biocbuild/R/R/bin/R CMD INSTALL CNVPanelizer StartedAt: 2025-02-10 21:05:44 -0000 (Mon, 10 Feb 2025) EndedAt: 2025-02-10 21:06:10 -0000 (Mon, 10 Feb 2025) EllapsedTime: 26.2 seconds RetCode: 0 Status: OK