Package: CNVPanelizer Version: 1.38.0 Command: /home/biocbuild/R/R/bin/R CMD check --install=check:CNVPanelizer.install-out.txt --library=/home/biocbuild/R/R/site-library --no-vignettes --timings CNVPanelizer_1.38.0.tar.gz StartedAt: 2025-02-11 04:59:30 -0000 (Tue, 11 Feb 2025) EndedAt: 2025-02-11 05:03:08 -0000 (Tue, 11 Feb 2025) EllapsedTime: 218.2 seconds RetCode: 0 Status: OK CheckDir: CNVPanelizer.Rcheck Warnings: 0