Package: CNVPanelizer Version: 1.38.0 Command: F:\biocbuild\bbs-3.20-bioc\R\bin\R.exe CMD check --no-multiarch --install=check:CNVPanelizer.install-out.txt --library=F:\biocbuild\bbs-3.20-bioc\R\library --no-vignettes --timings CNVPanelizer_1.38.0.tar.gz StartedAt: 2025-02-11 00:23:34 -0500 (Tue, 11 Feb 2025) EndedAt: 2025-02-11 00:27:10 -0500 (Tue, 11 Feb 2025) EllapsedTime: 215.8 seconds RetCode: 0 Status: OK CheckDir: CNVPanelizer.Rcheck Warnings: 0