Package: CNVPanelizer Version: 1.38.0 Command: /Library/Frameworks/R.framework/Resources/bin/R CMD check --install=check:CNVPanelizer.install-out.txt --library=/Library/Frameworks/R.framework/Resources/library --no-vignettes --timings CNVPanelizer_1.38.0.tar.gz StartedAt: 2025-02-11 15:09:51 -0500 (Tue, 11 Feb 2025) EndedAt: 2025-02-11 15:13:09 -0500 (Tue, 11 Feb 2025) EllapsedTime: 198.0 seconds RetCode: 0 Status: OK CheckDir: CNVPanelizer.Rcheck Warnings: 0