Package: CNVPanelizer Version: 1.38.0 Command: /Library/Frameworks/R.framework/Resources/bin/R CMD build --keep-empty-dirs --no-resave-data CNVPanelizer StartedAt: 2025-02-10 21:16:01 -0500 (Mon, 10 Feb 2025) EndedAt: 2025-02-10 21:17:27 -0500 (Mon, 10 Feb 2025) EllapsedTime: 86.6 seconds RetCode: 0 Status: OK PackageFile: CNVPanelizer_1.38.0.tar.gz PackageFileSize: 363 KiB