Package: CNVMetrics Version: 1.10.0 Command: /home/biocbuild/R/R/bin/R CMD INSTALL CNVMetrics StartedAt: 2025-01-30 20:23:46 -0000 (Thu, 30 Jan 2025) EndedAt: 2025-01-30 20:23:59 -0000 (Thu, 30 Jan 2025) EllapsedTime: 13.7 seconds RetCode: 0 Status: OK