Package: CNVMetrics Version: 1.10.0 Command: /home/biocbuild/R/R/bin/R CMD check --install=check:CNVMetrics.install-out.txt --library=/home/biocbuild/R/R/site-library --no-vignettes --timings CNVMetrics_1.10.0.tar.gz StartedAt: 2025-01-31 05:04:02 -0000 (Fri, 31 Jan 2025) EndedAt: 2025-01-31 05:06:27 -0000 (Fri, 31 Jan 2025) EllapsedTime: 145.2 seconds RetCode: 0 Status: OK CheckDir: CNVMetrics.Rcheck Warnings: 0