Package: CNVMetrics Version: 1.10.0 Command: /Library/Frameworks/R.framework/Resources/bin/R CMD INSTALL CNVMetrics StartedAt: 2025-03-31 15:29:15 -0400 (Mon, 31 Mar 2025) EndedAt: 2025-03-31 15:29:49 -0400 (Mon, 31 Mar 2025) EllapsedTime: 33.7 seconds RetCode: 0 Status: OK