Package: CNVMetrics Version: 1.10.0 Command: /Library/Frameworks/R.framework/Resources/bin/R CMD INSTALL CNVMetrics StartedAt: 2025-01-30 15:59:53 -0500 (Thu, 30 Jan 2025) EndedAt: 2025-01-30 16:00:06 -0500 (Thu, 30 Jan 2025) EllapsedTime: 12.7 seconds RetCode: 0 Status: OK