Package: CNVMetrics Version: 1.10.0 Command: /Library/Frameworks/R.framework/Resources/bin/R CMD check --install=check:CNVMetrics.install-out.txt --library=/Library/Frameworks/R.framework/Resources/library --no-vignettes --timings CNVMetrics_1.10.0.tar.gz StartedAt: 2025-01-31 14:57:40 -0500 (Fri, 31 Jan 2025) EndedAt: 2025-01-31 14:59:57 -0500 (Fri, 31 Jan 2025) EllapsedTime: 137.1 seconds RetCode: 0 Status: OK CheckDir: CNVMetrics.Rcheck Warnings: 0