Package: CNVMetrics Version: 1.10.0 Command: rm -rf CNVMetrics.buildbin-libdir && mkdir CNVMetrics.buildbin-libdir && /Users/biocbuild/BBS/utils/build-universal.sh CNVMetrics_1.10.0.tar.gz /Library/Frameworks/R.framework/Resources/bin/R CNVMetrics.buildbin-libdir StartedAt: 2025-02-01 14:23:12 -0500 (Sat, 01 Feb 2025) EndedAt: 2025-02-01 14:23:28 -0500 (Sat, 01 Feb 2025) EllapsedTime: 15.7 seconds RetCode: 0 Status: OK PackageFile: CNVMetrics_1.10.0.tgz PackageFileSize: 2.746 MiB