Package: CNTools Version: 1.62.0 Command: /Library/Frameworks/R.framework/Resources/bin/R CMD INSTALL CNTools StartedAt: 2025-03-31 16:08:49 -0400 (Mon, 31 Mar 2025) EndedAt: 2025-03-31 16:09:30 -0400 (Mon, 31 Mar 2025) EllapsedTime: 40.4 seconds RetCode: 0 Status: OK