Package: CNTools Version: 1.62.0 Command: /Library/Frameworks/R.framework/Resources/bin/R CMD INSTALL CNTools StartedAt: 2025-03-31 17:09:44 -0400 (Mon, 31 Mar 2025) EndedAt: 2025-03-31 17:10:06 -0400 (Mon, 31 Mar 2025) EllapsedTime: 21.2 seconds RetCode: 0 Status: OK