Package: CNORode Version: 1.48.0 Command: /home/biocbuild/R/R/bin/R CMD INSTALL CNORode StartedAt: 2025-01-27 21:35:15 -0000 (Mon, 27 Jan 2025) EndedAt: 2025-01-27 21:35:38 -0000 (Mon, 27 Jan 2025) EllapsedTime: 22.1 seconds RetCode: 0 Status: OK