Package: CNORode Version: 1.48.0 Command: /home/biocbuild/R/R/bin/R CMD check --install=check:CNORode.install-out.txt --library=/home/biocbuild/R/R/site-library --no-vignettes --timings CNORode_1.48.0.tar.gz StartedAt: 2025-04-01 05:12:35 -0000 (Tue, 01 Apr 2025) EndedAt: 2025-04-01 05:13:46 -0000 (Tue, 01 Apr 2025) EllapsedTime: 71.1 seconds RetCode: 0 Status: WARNINGS CheckDir: CNORode.Rcheck Warnings: 2