Package: CNORode Version: 1.48.0 Command: /home/biocbuild/bbs-3.20-bioc/R/bin/R CMD INSTALL CNORode StartedAt: 2025-01-27 16:24:14 -0500 (Mon, 27 Jan 2025) EndedAt: 2025-01-27 16:24:30 -0500 (Mon, 27 Jan 2025) EllapsedTime: 15.4 seconds RetCode: 0 Status: OK