Package: CNORode Version: 1.48.0 Command: /Library/Frameworks/R.framework/Resources/bin/R CMD INSTALL CNORode StartedAt: 2025-03-31 15:51:43 -0400 (Mon, 31 Mar 2025) EndedAt: 2025-03-31 15:52:19 -0400 (Mon, 31 Mar 2025) EllapsedTime: 35.2 seconds RetCode: 0 Status: OK