Package: CNORode Version: 1.48.0 Command: /Library/Frameworks/R.framework/Resources/bin/R CMD check --install=check:CNORode.install-out.txt --library=/Library/Frameworks/R.framework/Resources/library --no-vignettes --timings CNORode_1.48.0.tar.gz StartedAt: 2025-04-01 14:37:29 -0400 (Tue, 01 Apr 2025) EndedAt: 2025-04-01 14:38:46 -0400 (Tue, 01 Apr 2025) EllapsedTime: 77.0 seconds RetCode: 0 Status: WARNINGS CheckDir: CNORode.Rcheck Warnings: 2