Package: CNORfeeder Version: 1.46.0 Command: /home/biocbuild/R/R/bin/R CMD build --keep-empty-dirs --no-resave-data CNORfeeder StartedAt: 2025-01-27 23:26:59 -0000 (Mon, 27 Jan 2025) EndedAt: 2025-01-27 23:27:14 -0000 (Mon, 27 Jan 2025) EllapsedTime: 15.0 seconds RetCode: 0 Status: OK PackageFile: CNORfeeder_1.46.0.tar.gz PackageFileSize: 3.428 MiB