Package: CNORfeeder Version: 1.46.0 Command: rm -rf CNORfeeder.buildbin-libdir && mkdir CNORfeeder.buildbin-libdir && F:\biocbuild\bbs-3.20-bioc\R\bin\R.exe CMD INSTALL --build --library=CNORfeeder.buildbin-libdir CNORfeeder_1.46.0.tar.gz StartedAt: 2025-04-01 07:56:17 -0400 (Tue, 01 Apr 2025) EndedAt: 2025-04-01 07:56:43 -0400 (Tue, 01 Apr 2025) EllapsedTime: 25.7 seconds RetCode: 0 Status: OK PackageFile: CNORfeeder_1.46.0.zip PackageFileSize: 1.966 MiB