Package: CNORfeeder Version: 1.46.0 Command: /Library/Frameworks/R.framework/Resources/bin/R CMD INSTALL CNORfeeder StartedAt: 2025-01-27 15:58:39 -0500 (Mon, 27 Jan 2025) EndedAt: 2025-01-27 15:58:58 -0500 (Mon, 27 Jan 2025) EllapsedTime: 19.0 seconds RetCode: 0 Status: OK