Package: CNORfeeder Version: 1.46.0 Command: /Library/Frameworks/R.framework/Resources/bin/R CMD check --install=check:CNORfeeder.install-out.txt --library=/Library/Frameworks/R.framework/Resources/library --no-vignettes --timings CNORfeeder_1.46.0.tar.gz StartedAt: 2025-01-28 01:40:29 -0500 (Tue, 28 Jan 2025) EndedAt: 2025-01-28 01:43:15 -0500 (Tue, 28 Jan 2025) EllapsedTime: 165.8 seconds RetCode: 0 Status: WARNINGS CheckDir: CNORfeeder.Rcheck Warnings: 1