Package: CNORfeeder Version: 1.46.0 Command: /Library/Frameworks/R.framework/Resources/bin/R CMD build --keep-empty-dirs --no-resave-data CNORfeeder StartedAt: 2025-01-27 17:58:20 -0500 (Mon, 27 Jan 2025) EndedAt: 2025-01-27 17:59:02 -0500 (Mon, 27 Jan 2025) EllapsedTime: 42.0 seconds RetCode: 0 Status: OK PackageFile: CNORfeeder_1.46.0.tar.gz PackageFileSize: 3.435 MiB