Package: CNORfeeder Version: 1.46.0 Command: rm -rf CNORfeeder.buildbin-libdir && mkdir CNORfeeder.buildbin-libdir && /Users/biocbuild/BBS/utils/build-universal.sh CNORfeeder_1.46.0.tar.gz /Library/Frameworks/R.framework/Resources/bin/R CNORfeeder.buildbin-libdir StartedAt: 2025-02-05 15:17:43 -0500 (Wed, 05 Feb 2025) EndedAt: 2025-02-05 15:17:54 -0500 (Wed, 05 Feb 2025) EllapsedTime: 11.5 seconds RetCode: 0 Status: OK PackageFile: CNORfeeder_1.46.0.tgz PackageFileSize: 2.1 MiB