Package: CNORdt Version: 1.48.0 Command: /home/biocbuild/R/R/bin/R CMD INSTALL CNORdt StartedAt: 2025-01-30 20:39:15 -0000 (Thu, 30 Jan 2025) EndedAt: 2025-01-30 20:39:24 -0000 (Thu, 30 Jan 2025) EllapsedTime: 9.1 seconds RetCode: 0 Status: OK