Package: CNORdt Version: 1.48.0 Command: /home/biocbuild/R/R/bin/R CMD check --install=check:CNORdt.install-out.txt --library=/home/biocbuild/R/R/site-library --no-vignettes --timings CNORdt_1.48.0.tar.gz StartedAt: 2025-01-31 05:02:52 -0000 (Fri, 31 Jan 2025) EndedAt: 2025-01-31 05:04:46 -0000 (Fri, 31 Jan 2025) EllapsedTime: 114.2 seconds RetCode: 0 Status: OK CheckDir: CNORdt.Rcheck Warnings: 0