Package: CNORdt Version: 1.48.0 Command: /Library/Frameworks/R.framework/Resources/bin/R CMD build --keep-empty-dirs --no-resave-data CNORdt StartedAt: 2025-01-30 21:09:11 -0500 (Thu, 30 Jan 2025) EndedAt: 2025-01-30 21:10:00 -0500 (Thu, 30 Jan 2025) EllapsedTime: 49.0 seconds RetCode: 0 Status: OK PackageFile: CNORdt_1.48.0.tar.gz PackageFileSize: 319.2 KiB