Package: CNEr Version: 1.42.0 Command: /Library/Frameworks/R.framework/Resources/bin/R CMD INSTALL CNEr StartedAt: 2025-03-31 15:55:31 -0400 (Mon, 31 Mar 2025) EndedAt: 2025-03-31 15:56:28 -0400 (Mon, 31 Mar 2025) EllapsedTime: 57.8 seconds RetCode: 0 Status: OK