Package: CNEr Version: 1.42.0 Command: rm -rf CNEr.buildbin-libdir && mkdir CNEr.buildbin-libdir && /Users/biocbuild/BBS/utils/build-universal.sh CNEr_1.42.0.tar.gz /Library/Frameworks/R.framework/Resources/bin/R CNEr.buildbin-libdir StartedAt: 2025-04-02 13:47:13 -0400 (Wed, 02 Apr 2025) EndedAt: 2025-04-02 13:48:22 -0400 (Wed, 02 Apr 2025) EllapsedTime: 68.8 seconds RetCode: 0 Status: OK PackageFile: CNEr_1.42.0.tgz PackageFileSize: 10.49 MiB