Package: CNAnorm Version: 1.52.0 Command: F:\biocbuild\bbs-3.20-bioc\R\bin\R.exe CMD INSTALL CNAnorm StartedAt: 2025-01-30 15:28:09 -0500 (Thu, 30 Jan 2025) EndedAt: 2025-01-30 15:29:08 -0500 (Thu, 30 Jan 2025) EllapsedTime: 59.5 seconds RetCode: 0 Status: OK