Package: CNAnorm Version: 1.52.0 Command: /home/biocbuild/bbs-3.20-bioc/R/bin/R CMD INSTALL CNAnorm StartedAt: 2025-01-27 16:00:34 -0500 (Mon, 27 Jan 2025) EndedAt: 2025-01-27 16:00:53 -0500 (Mon, 27 Jan 2025) EllapsedTime: 19.4 seconds RetCode: 0 Status: OK