Package: CNAnorm Version: 1.52.0 Command: /Library/Frameworks/R.framework/Resources/bin/R CMD INSTALL CNAnorm StartedAt: 2025-03-31 15:16:41 -0400 (Mon, 31 Mar 2025) EndedAt: 2025-03-31 15:16:49 -0400 (Mon, 31 Mar 2025) EllapsedTime: 8.3 seconds RetCode: 0 Status: OK