Package: CMA Version: 1.64.0 Command: /home/biocbuild/R/R/bin/R CMD INSTALL CMA StartedAt: 2025-01-27 21:03:02 -0000 (Mon, 27 Jan 2025) EndedAt: 2025-01-27 21:03:26 -0000 (Mon, 27 Jan 2025) EllapsedTime: 24.0 seconds RetCode: 0 Status: OK