Package: CMA Version: 1.64.0 Command: F:\biocbuild\bbs-3.20-bioc\R\bin\R.exe CMD INSTALL CMA StartedAt: 2025-01-27 15:30:29 -0500 (Mon, 27 Jan 2025) EndedAt: 2025-01-27 15:31:21 -0500 (Mon, 27 Jan 2025) EllapsedTime: 51.9 seconds RetCode: 0 Status: OK