Package: CMA Version: 1.64.0 Command: F:\biocbuild\bbs-3.20-bioc\R\bin\R.exe CMD check --no-multiarch --install=check:CMA.install-out.txt --library=F:\biocbuild\bbs-3.20-bioc\R\library --no-vignettes --timings CMA_1.64.0.tar.gz StartedAt: 2025-01-28 00:10:33 -0500 (Tue, 28 Jan 2025) EndedAt: 2025-01-28 00:11:50 -0500 (Tue, 28 Jan 2025) EllapsedTime: 77.4 seconds RetCode: 0 Status: OK CheckDir: CMA.Rcheck Warnings: 0