Package: CMA Version: 1.64.0 Command: rm -rf CMA.buildbin-libdir && mkdir CMA.buildbin-libdir && F:\biocbuild\bbs-3.20-bioc\R\bin\R.exe CMD INSTALL --build --library=CMA.buildbin-libdir CMA_1.64.0.tar.gz StartedAt: 2025-01-28 07:53:16 -0500 (Tue, 28 Jan 2025) EndedAt: 2025-01-28 07:54:03 -0500 (Tue, 28 Jan 2025) EllapsedTime: 47.2 seconds RetCode: 0 Status: OK PackageFile: CMA_1.64.0.zip PackageFileSize: 1.722 MiB