Package: CMA Version: 1.64.0 Command: /Library/Frameworks/R.framework/Resources/bin/R CMD build --keep-empty-dirs --no-resave-data CMA StartedAt: 2025-01-27 21:04:23 -0500 (Mon, 27 Jan 2025) EndedAt: 2025-01-27 21:05:00 -0500 (Mon, 27 Jan 2025) EllapsedTime: 37.0 seconds RetCode: 0 Status: OK PackageFile: CMA_1.64.0.tar.gz PackageFileSize: 1.21 MiB