Package: CMA Version: 1.64.0 Command: rm -rf CMA.buildbin-libdir && mkdir CMA.buildbin-libdir && /Users/biocbuild/BBS/utils/build-universal.sh CMA_1.64.0.tar.gz /Library/Frameworks/R.framework/Resources/bin/R CMA.buildbin-libdir StartedAt: 2025-01-29 14:05:51 -0500 (Wed, 29 Jan 2025) EndedAt: 2025-01-29 14:06:08 -0500 (Wed, 29 Jan 2025) EllapsedTime: 16.8 seconds RetCode: 0 Status: OK PackageFile: CMA_1.64.0.tgz PackageFileSize: 1.886 MiB