Package: CINdex Version: 1.34.0 Command: /home/biocbuild/R/R/bin/R CMD INSTALL CINdex StartedAt: 2025-03-31 20:21:56 -0000 (Mon, 31 Mar 2025) EndedAt: 2025-03-31 20:22:26 -0000 (Mon, 31 Mar 2025) EllapsedTime: 29.6 seconds RetCode: 0 Status: OK