Package: CINdex Version: 1.34.0 Command: rm -rf CINdex.buildbin-libdir && mkdir CINdex.buildbin-libdir && /Users/biocbuild/BBS/utils/build-universal.sh CINdex_1.34.0.tar.gz /Library/Frameworks/R.framework/Resources/bin/R CINdex.buildbin-libdir StartedAt: 2025-01-28 12:49:50 -0500 (Tue, 28 Jan 2025) EndedAt: 2025-01-28 12:50:46 -0500 (Tue, 28 Jan 2025) EllapsedTime: 56.3 seconds RetCode: 0 Status: OK PackageFile: CINdex_1.34.0.tgz PackageFileSize: 17.96 MiB