Package: CINdex Version: 1.34.0 Command: /Library/Frameworks/R.framework/Resources/bin/R CMD build --keep-empty-dirs --no-resave-data CINdex StartedAt: 2025-02-03 20:43:24 -0500 (Mon, 03 Feb 2025) EndedAt: 2025-02-03 20:49:22 -0500 (Mon, 03 Feb 2025) EllapsedTime: 358.4 seconds RetCode: 0 Status: OK PackageFile: CINdex_1.34.0.tar.gz PackageFileSize: 12.58 MiB